BEGIN:VCALENDAR
VERSION:2.0
PRODID:-//Eventin//Event Calendar//EN
CALSCALE:GREGORIAN
METHOD:PUBLISH
BEGIN:VEVENT
UID:a0c1844bd7167873aa6e6f0132578e2e@globallinktradehub.com
SUMMARY:Business networking
DESCRIPTION:
LOCATION:88 Doncaster Ave\, Thornhill
DTSTAMP:20260420T114610Z
DTSTART:20260425T163000Z
DTEND:20260425T193000Z
END:VEVENT
END:VCALENDAR
